BEGIN:VCALENDAR
VERSION:2.0
PRODID:https://www.kufer.de/kuferweb / DE
METHOD:PUBLISH
CALSCALE:GREGORIAN
X-WR-TIMEZONE:Europe/Berlin
BEGIN:VTIMEZONE
TZID:Europe/Berlin
X-LIC-LOCATION:Europe/Berlin
BEGIN:DAYLIGHT
TZOFFSETFROM:+0100
TZOFFSETTO:+0200
TZNAME:CEST
DTSTART:19700329T020000
RRULE:FREQ=YEARLY;INTERVAL=1;BYDAY=-1SU;BYMONTH=3
END:DAYLIGHT
BEGIN:STANDARD
TZOFFSETFROM:+0200
TZOFFSETTO:+0100
TZNAME:CET
DTSTART:19701025T030000
RRULE:FREQ=YEARLY;INTERVAL=1;BYDAY=-1SU;BYMONTH=10
END:STANDARD
END:VTIMEZONE
BEGIN:VEVENT
DTSTAMP:20260419T223915
DTSTART;TZID=Europe/Berlin:20260309T153000
DTEND;TZID=Europe/Berlin:20260309T161500
UID:ANAJ3114-20260309T153000@VHSNEA-BW
SUMMARY:Bewegung und Spaß für Kinder von 3 bis 6 Jahren (ANAJ3114) 
LOCATION:Neuhof a.d. Zenn, Grund- und Hauptschule, Turnhalle, Schulstr. 16a, 90616 Neuhof a. d. Zenn
END:VEVENT
BEGIN:VEVENT
DTSTAMP:20260419T223915
DTSTART;TZID=Europe/Berlin:20260316T153000
DTEND;TZID=Europe/Berlin:20260316T161500
UID:ANAJ3114-20260316T153000@VHSNEA-BW
SUMMARY:Bewegung und Spaß für Kinder von 3 bis 6 Jahren (ANAJ3114) 
LOCATION:Neuhof a.d. Zenn, Grund- und Hauptschule, Turnhalle, Schulstr. 16a, 90616 Neuhof a. d. Zenn
END:VEVENT
BEGIN:VEVENT
DTSTAMP:20260419T223915
DTSTART;TZID=Europe/Berlin:20260323T153000
DTEND;TZID=Europe/Berlin:20260323T161500
UID:ANAJ3114-20260323T153000@VHSNEA-BW
SUMMARY:Bewegung und Spaß für Kinder von 3 bis 6 Jahren (ANAJ3114) 
LOCATION:Neuhof a.d. Zenn, Grund- und Hauptschule, Turnhalle, Schulstr. 16a, 90616 Neuhof a. d. Zenn
END:VEVENT
BEGIN:VEVENT
DTSTAMP:20260419T223915
DTSTART;TZID=Europe/Berlin:20260413T153000
DTEND;TZID=Europe/Berlin:20260413T161500
UID:ANAJ3114-20260413T153000@VHSNEA-BW
SUMMARY:Bewegung und Spaß für Kinder von 3 bis 6 Jahren (ANAJ3114) 
LOCATION:Neuhof a.d. Zenn, Grund- und Hauptschule, Turnhalle, Schulstr. 16a, 90616 Neuhof a. d. Zenn
END:VEVENT
BEGIN:VEVENT
DTSTAMP:20260419T223915
DTSTART;TZID=Europe/Berlin:20260420T153000
DTEND;TZID=Europe/Berlin:20260420T161500
UID:ANAJ3114-20260420T153000@VHSNEA-BW
SUMMARY:Bewegung und Spaß für Kinder von 3 bis 6 Jahren (ANAJ3114) 
LOCATION:Neuhof a.d. Zenn, Grund- und Hauptschule, Turnhalle, Schulstr. 16a, 90616 Neuhof a. d. Zenn
END:VEVENT
BEGIN:VEVENT
DTSTAMP:20260419T223915
DTSTART;TZID=Europe/Berlin:20260427T153000
DTEND;TZID=Europe/Berlin:20260427T161500
UID:ANAJ3114-20260427T153000@VHSNEA-BW
SUMMARY:Bewegung und Spaß für Kinder von 3 bis 6 Jahren (ANAJ3114) 
LOCATION:Neuhof a.d. Zenn, Grund- und Hauptschule, Turnhalle, Schulstr. 16a, 90616 Neuhof a. d. Zenn
END:VEVENT
BEGIN:VEVENT
DTSTAMP:20260419T223915
DTSTART;TZID=Europe/Berlin:20260504T153000
DTEND;TZID=Europe/Berlin:20260504T161500
UID:ANAJ3114-20260504T153000@VHSNEA-BW
SUMMARY:Bewegung und Spaß für Kinder von 3 bis 6 Jahren (ANAJ3114) 
LOCATION:Neuhof a.d. Zenn, Grund- und Hauptschule, Turnhalle, Schulstr. 16a, 90616 Neuhof a. d. Zenn
END:VEVENT
BEGIN:VEVENT
DTSTAMP:20260419T223915
DTSTART;TZID=Europe/Berlin:20260511T153000
DTEND;TZID=Europe/Berlin:20260511T161500
UID:ANAJ3114-20260511T153000@VHSNEA-BW
SUMMARY:Bewegung und Spaß für Kinder von 3 bis 6 Jahren (ANAJ3114) 
LOCATION:Neuhof a.d. Zenn, Grund- und Hauptschule, Turnhalle, Schulstr. 16a, 90616 Neuhof a. d. Zenn
END:VEVENT
BEGIN:VEVENT
DTSTAMP:20260419T223915
DTSTART;TZID=Europe/Berlin:20260518T153000
DTEND;TZID=Europe/Berlin:20260518T161500
UID:ANAJ3114-20260518T153000@VHSNEA-BW
SUMMARY:Bewegung und Spaß für Kinder von 3 bis 6 Jahren (ANAJ3114) 
LOCATION:Neuhof a.d. Zenn, Grund- und Hauptschule, Turnhalle, Schulstr. 16a, 90616 Neuhof a. d. Zenn
END:VEVENT
END:VCALENDAR