BEGIN:VCALENDAR
VERSION:2.0
PRODID:https://www.kufer.de/kuferweb / DE
METHOD:PUBLISH
CALSCALE:GREGORIAN
X-WR-TIMEZONE:Europe/Berlin
BEGIN:VTIMEZONE
TZID:Europe/Berlin
X-LIC-LOCATION:Europe/Berlin
BEGIN:DAYLIGHT
TZOFFSETFROM:+0100
TZOFFSETTO:+0200
TZNAME:CEST
DTSTART:19700329T020000
RRULE:FREQ=YEARLY;INTERVAL=1;BYDAY=-1SU;BYMONTH=3
END:DAYLIGHT
BEGIN:STANDARD
TZOFFSETFROM:+0200
TZOFFSETTO:+0100
TZNAME:CET
DTSTART:19701025T030000
RRULE:FREQ=YEARLY;INTERVAL=1;BYDAY=-1SU;BYMONTH=10
END:STANDARD
END:VTIMEZONE
BEGIN:VEVENT
DTSTAMP:20260421T102951
DTSTART;TZID=Europe/Berlin:20260417T173000
DTEND;TZID=Europe/Berlin:20260417T220000
UID:ANC7100-20260417T173000@VHSNEA-BW
SUMMARY:Die vierzehnte kreative Auszeit mit Wolle Wochenende auf Burg Hoheneck (ANC7100) 
LOCATION:Neustadt a.d. Aisch, Burg Hoheneck, , 91472 Ipsheim
END:VEVENT
BEGIN:VEVENT
DTSTAMP:20260421T102951
DTSTART;TZID=Europe/Berlin:20260417T173000
DTEND;TZID=Europe/Berlin:20260417T220000
UID:ANC7100-20260417T173000@VHSNEA-BW
SUMMARY:Die vierzehnte kreative Auszeit mit Wolle Wochenende auf Burg Hoheneck (ANC7100) 
LOCATION:Neustadt a.d. Aisch, Burg Hoheneck, , 91472 Ipsheim
END:VEVENT
BEGIN:VEVENT
DTSTAMP:20260421T102951
DTSTART;TZID=Europe/Berlin:20260418T090000
DTEND;TZID=Europe/Berlin:20260418T200000
UID:ANC7100-20260418T090000@VHSNEA-BW
SUMMARY:Die vierzehnte kreative Auszeit mit Wolle Wochenende auf Burg Hoheneck (ANC7100) 
LOCATION:Neustadt a.d. Aisch, Burg Hoheneck, , 91472 Ipsheim
END:VEVENT
BEGIN:VEVENT
DTSTAMP:20260421T102951
DTSTART;TZID=Europe/Berlin:20260418T090000
DTEND;TZID=Europe/Berlin:20260418T200000
UID:ANC7100-20260418T090000@VHSNEA-BW
SUMMARY:Die vierzehnte kreative Auszeit mit Wolle Wochenende auf Burg Hoheneck (ANC7100) 
LOCATION:Neustadt a.d. Aisch, Burg Hoheneck, , 91472 Ipsheim
END:VEVENT
BEGIN:VEVENT
DTSTAMP:20260421T102951
DTSTART;TZID=Europe/Berlin:20260419T090000
DTEND;TZID=Europe/Berlin:20260419T140000
UID:ANC7100-20260419T090000@VHSNEA-BW
SUMMARY:Die vierzehnte kreative Auszeit mit Wolle Wochenende auf Burg Hoheneck (ANC7100) 
LOCATION:Neustadt a.d. Aisch, Burg Hoheneck, , 91472 Ipsheim
END:VEVENT
BEGIN:VEVENT
DTSTAMP:20260421T102951
DTSTART;TZID=Europe/Berlin:20260419T090000
DTEND;TZID=Europe/Berlin:20260419T140000
UID:ANC7100-20260419T090000@VHSNEA-BW
SUMMARY:Die vierzehnte kreative Auszeit mit Wolle Wochenende auf Burg Hoheneck (ANC7100) 
LOCATION:Neustadt a.d. Aisch, Burg Hoheneck, , 91472 Ipsheim
END:VEVENT
END:VCALENDAR