BEGIN:VCALENDAR
VERSION:2.0
PRODID:https://www.kufer.de/kuferweb / DE
METHOD:PUBLISH
CALSCALE:GREGORIAN
X-WR-TIMEZONE:Europe/Berlin
BEGIN:VTIMEZONE
TZID:Europe/Berlin
X-LIC-LOCATION:Europe/Berlin
BEGIN:DAYLIGHT
TZOFFSETFROM:+0100
TZOFFSETTO:+0200
TZNAME:CEST
DTSTART:19700329T020000
RRULE:FREQ=YEARLY;INTERVAL=1;BYDAY=-1SU;BYMONTH=3
END:DAYLIGHT
BEGIN:STANDARD
TZOFFSETFROM:+0200
TZOFFSETTO:+0100
TZNAME:CET
DTSTART:19701025T030000
RRULE:FREQ=YEARLY;INTERVAL=1;BYDAY=-1SU;BYMONTH=10
END:STANDARD
END:VTIMEZONE
BEGIN:VEVENT
DTSTAMP:20260425T050137
DTSTART;TZID=Europe/Berlin:20260326T104000
DTEND;TZID=Europe/Berlin:20260326T121000
UID:AWG3126-20260326T104000@VHSNEA-BW
SUMMARY:Moving Mami mit Baby bis 1,5 Jahre Sanftes Workout nach deinem Rückbildungskurs (AWG3126) 
LOCATION:Bad Windsheim, DAV Kletterzentrum, Gymnastikraum, Sporthallenweg 12, 91438 Bad Windsheim
END:VEVENT
BEGIN:VEVENT
DTSTAMP:20260425T050137
DTSTART;TZID=Europe/Berlin:20260402T104000
DTEND;TZID=Europe/Berlin:20260402T121000
UID:AWG3126-20260402T104000@VHSNEA-BW
SUMMARY:Moving Mami mit Baby bis 1,5 Jahre Sanftes Workout nach deinem Rückbildungskurs (AWG3126) 
LOCATION:Bad Windsheim, DAV Kletterzentrum, Gymnastikraum, Sporthallenweg 12, 91438 Bad Windsheim
END:VEVENT
BEGIN:VEVENT
DTSTAMP:20260425T050137
DTSTART;TZID=Europe/Berlin:20260409T104000
DTEND;TZID=Europe/Berlin:20260409T121000
UID:AWG3126-20260409T104000@VHSNEA-BW
SUMMARY:Moving Mami mit Baby bis 1,5 Jahre Sanftes Workout nach deinem Rückbildungskurs (AWG3126) 
LOCATION:Bad Windsheim, DAV Kletterzentrum, Gymnastikraum, Sporthallenweg 12, 91438 Bad Windsheim
END:VEVENT
BEGIN:VEVENT
DTSTAMP:20260425T050137
DTSTART;TZID=Europe/Berlin:20260416T104000
DTEND;TZID=Europe/Berlin:20260416T121000
UID:AWG3126-20260416T104000@VHSNEA-BW
SUMMARY:Moving Mami mit Baby bis 1,5 Jahre Sanftes Workout nach deinem Rückbildungskurs (AWG3126) 
LOCATION:Bad Windsheim, DAV Kletterzentrum, Gymnastikraum, Sporthallenweg 12, 91438 Bad Windsheim
END:VEVENT
BEGIN:VEVENT
DTSTAMP:20260425T050137
DTSTART;TZID=Europe/Berlin:20260423T104000
DTEND;TZID=Europe/Berlin:20260423T121000
UID:AWG3126-20260423T104000@VHSNEA-BW
SUMMARY:Moving Mami mit Baby bis 1,5 Jahre Sanftes Workout nach deinem Rückbildungskurs (AWG3126) 
LOCATION:Bad Windsheim, DAV Kletterzentrum, Gymnastikraum, Sporthallenweg 12, 91438 Bad Windsheim
END:VEVENT
BEGIN:VEVENT
DTSTAMP:20260425T050137
DTSTART;TZID=Europe/Berlin:20260430T104000
DTEND;TZID=Europe/Berlin:20260430T121000
UID:AWG3126-20260430T104000@VHSNEA-BW
SUMMARY:Moving Mami mit Baby bis 1,5 Jahre Sanftes Workout nach deinem Rückbildungskurs (AWG3126) 
LOCATION:Bad Windsheim, DAV Kletterzentrum, Gymnastikraum, Sporthallenweg 12, 91438 Bad Windsheim
END:VEVENT
END:VCALENDAR