BEGIN:VCALENDAR
VERSION:2.0
PRODID:https://www.kufer.de/kuferweb / DE
METHOD:PUBLISH
CALSCALE:GREGORIAN
X-WR-TIMEZONE:Europe/Berlin
BEGIN:VTIMEZONE
TZID:Europe/Berlin
X-LIC-LOCATION:Europe/Berlin
BEGIN:DAYLIGHT
TZOFFSETFROM:+0100
TZOFFSETTO:+0200
TZNAME:CEST
DTSTART:19700329T020000
RRULE:FREQ=YEARLY;INTERVAL=1;BYDAY=-1SU;BYMONTH=3
END:DAYLIGHT
BEGIN:STANDARD
TZOFFSETFROM:+0200
TZOFFSETTO:+0100
TZNAME:CET
DTSTART:19701025T030000
RRULE:FREQ=YEARLY;INTERVAL=1;BYDAY=-1SU;BYMONTH=10
END:STANDARD
END:VTIMEZONE
BEGIN:VEVENT
DTSTAMP:20260425T182719
DTSTART;TZID=Europe/Berlin:20260415T160000
DTEND;TZID=Europe/Berlin:20260415T164500
UID:AWJ2102-20260415T160000@VHSNEA-BW
SUMMARY:Schwimmkurs der Wasserwacht  für Kinder ab 6 Jahre (AWJ2102) 
LOCATION:Bad Windsheim, Schulzentrum, Schwimmhalle , Galgenbuckweg, 91438 Bad Windsheim
END:VEVENT
BEGIN:VEVENT
DTSTAMP:20260425T182719
DTSTART;TZID=Europe/Berlin:20260422T160000
DTEND;TZID=Europe/Berlin:20260422T164500
UID:AWJ2102-20260422T160000@VHSNEA-BW
SUMMARY:Schwimmkurs der Wasserwacht  für Kinder ab 6 Jahre (AWJ2102) 
LOCATION:Bad Windsheim, Schulzentrum, Schwimmhalle , Galgenbuckweg, 91438 Bad Windsheim
END:VEVENT
BEGIN:VEVENT
DTSTAMP:20260425T182719
DTSTART;TZID=Europe/Berlin:20260429T160000
DTEND;TZID=Europe/Berlin:20260429T164500
UID:AWJ2102-20260429T160000@VHSNEA-BW
SUMMARY:Schwimmkurs der Wasserwacht  für Kinder ab 6 Jahre (AWJ2102) 
LOCATION:Bad Windsheim, Schulzentrum, Schwimmhalle , Galgenbuckweg, 91438 Bad Windsheim
END:VEVENT
BEGIN:VEVENT
DTSTAMP:20260425T182719
DTSTART;TZID=Europe/Berlin:20260506T160000
DTEND;TZID=Europe/Berlin:20260506T164500
UID:AWJ2102-20260506T160000@VHSNEA-BW
SUMMARY:Schwimmkurs der Wasserwacht  für Kinder ab 6 Jahre (AWJ2102) 
LOCATION:Bad Windsheim, Schulzentrum, Schwimmhalle , Galgenbuckweg, 91438 Bad Windsheim
END:VEVENT
BEGIN:VEVENT
DTSTAMP:20260425T182719
DTSTART;TZID=Europe/Berlin:20260513T160000
DTEND;TZID=Europe/Berlin:20260513T164500
UID:AWJ2102-20260513T160000@VHSNEA-BW
SUMMARY:Schwimmkurs der Wasserwacht  für Kinder ab 6 Jahre (AWJ2102) 
LOCATION:Bad Windsheim, Schulzentrum, Schwimmhalle , Galgenbuckweg, 91438 Bad Windsheim
END:VEVENT
BEGIN:VEVENT
DTSTAMP:20260425T182719
DTSTART;TZID=Europe/Berlin:20260520T160000
DTEND;TZID=Europe/Berlin:20260520T164500
UID:AWJ2102-20260520T160000@VHSNEA-BW
SUMMARY:Schwimmkurs der Wasserwacht  für Kinder ab 6 Jahre (AWJ2102) 
LOCATION:Bad Windsheim, Schulzentrum, Schwimmhalle , Galgenbuckweg, 91438 Bad Windsheim
END:VEVENT
BEGIN:VEVENT
DTSTAMP:20260425T182719
DTSTART;TZID=Europe/Berlin:20260610T160000
DTEND;TZID=Europe/Berlin:20260610T164500
UID:AWJ2102-20260610T160000@VHSNEA-BW
SUMMARY:Schwimmkurs der Wasserwacht  für Kinder ab 6 Jahre (AWJ2102) 
LOCATION:Bad Windsheim, Schulzentrum, Schwimmhalle , Galgenbuckweg, 91438 Bad Windsheim
END:VEVENT
BEGIN:VEVENT
DTSTAMP:20260425T182719
DTSTART;TZID=Europe/Berlin:20260617T160000
DTEND;TZID=Europe/Berlin:20260617T164500
UID:AWJ2102-20260617T160000@VHSNEA-BW
SUMMARY:Schwimmkurs der Wasserwacht  für Kinder ab 6 Jahre (AWJ2102) 
LOCATION:Bad Windsheim, Schulzentrum, Schwimmhalle , Galgenbuckweg, 91438 Bad Windsheim
END:VEVENT
BEGIN:VEVENT
DTSTAMP:20260425T182719
DTSTART;TZID=Europe/Berlin:20260624T160000
DTEND;TZID=Europe/Berlin:20260624T164500
UID:AWJ2102-20260624T160000@VHSNEA-BW
SUMMARY:Schwimmkurs der Wasserwacht  für Kinder ab 6 Jahre (AWJ2102) 
LOCATION:Bad Windsheim, Schulzentrum, Schwimmhalle , Galgenbuckweg, 91438 Bad Windsheim
END:VEVENT
BEGIN:VEVENT
DTSTAMP:20260425T182719
DTSTART;TZID=Europe/Berlin:20260701T160000
DTEND;TZID=Europe/Berlin:20260701T164500
UID:AWJ2102-20260701T160000@VHSNEA-BW
SUMMARY:Schwimmkurs der Wasserwacht  für Kinder ab 6 Jahre (AWJ2102) 
LOCATION:Bad Windsheim, Schulzentrum, Schwimmhalle , Galgenbuckweg, 91438 Bad Windsheim
END:VEVENT
END:VCALENDAR